Workbook
Name Data: [1]Code!$F$1:$H$295
Name L3__L2: #REF!
Name L3__L2: #REF!
Name L3__L2: #REF!

Sheet State Summary
A1: HMIS MCTS Review Cum Training in Uttar Pradesh
A2: Summary
A3: Name of Training | B3: No of Days Training | C3: Target 2014-15 | D3: Acheivement | E3: Dates of Training | F3: No of batches | G3: No of Expected Participants | H3: No of Trainees Trained | I3: % Attendance
A4: State Level | B4: 03 Days | C4: 2 | D4: 1 | E4: 18 Dec14 to 14 Jan 15 | F4: 6 | G4: ='State Level Review'!G11 -> 467 | H4: ='State Level Review'!H11 -> 410 | I4: =H4/G4*100 -> 87.794433
A5: District Level | B5: 03 Days | C5: 4 | D5: 1 | E5: March 15 | F5: 35 | G5: ='District Level Review'!M22 -> 2105 | H5: ='District Level Review'!N22 -> 2062 | I5: =H5/G5*100 -> 97.957245
A6: Block Level | B6: 01 Day | C6: 12 | D6: 1 | E6: March 15 | F6: 820 | G6: ='Block Level Review'!H79 -> 28022 | H6: ='Block Level Review'!I79 -> 21781 | I6: ='Block Level Review'!J79 -> 77.728214

Sheet State Level Review
A1: State Level HMIS MCTS Review cum Training
A2: Participants: Div PM, Div Accounts Manager, ARO- Div AD Office, District Immunisation Officer, DPM, DDM, ARO-District, HMIS Operator District
A3: Venue: ICCMRT, Lucknow.
A4: Name of Training | B4: Details of Batch | C4: Division Names | D4: No of Districts | E4: No of Days Training | F4: Dates of Training | G4: No of Expected Participants | H4: No of Trained Participants | I4: % Attendance
A5: State Level | B5: Batch -1 | C5: Allahabad, Chitrakootdham, Varanasi | D5: 12 | E5: 03 Days | F5: 18 -20 Dec 14 | G5: 76 | H5: 63 | I5: =H5/G5*100 -> 82.894737
A6: State Level | B6: Batch -2 | C6: Agra, Aligarh, Kanpur | D6: 14 | E6: 03 Days | F6: 20 - 22 Dec 14 | G6: 86 | H6: 71 | I6: =H6/G6*100 -> 82.55814
A7: State Level | B7: Batch -3 | C7: Meerut, Moradabad | D7: 11 | E7: 03 Days | F7: 26 -28 Dec 14 | G7: 68 | H7: 50 | I7: =H7/G7*100 -> 73.529412
A8: State Level | B8: Batch -4 | C8: Gorakhpur, Basti, Devipatan | D8: 11 | E8: 03 Days | F8: 29 -31 Dec 14 | G8: 69 | H8: 57 | I8: =H8/G8*100 -> 82.608696
A9: State Level | B9: Batch -5 | C9: Lucknow, Faizabad, Bareilly | D9: 15 | E9: 03 Days | F9: 06 - 08 Jan 15 | G9: 91 | H9: 82 | I9: =H9/G9*100 -> 90.10989
A10: State Level | B10: Batch -6 | C10: Jhansi, Saharanpur, Mirzapur, Azamgarh | D10: 12 | E10: 03 Days | F10: 12 - 14 Jan 15 | G10: 77 | H10: 87 | I10: =H10/G10*100 -> 112.98701
F11: Total | G11: =G5+G6+G7+G8+G9+G10 -> 467 | H11: =H5+H6+H7+H8+H9+H10 -> 410 | I11: =H11/G11*100 -> 87.794433

Sheet District Level Review
A1: District Level HMIS/MCTS Review Cum Training (Organised at Divisional HQ)
A2: Participants: Chief Medical Officers, ACMO(RCH), DPM, HMIS Operator, DHEIO, ARO, RI Operator, BPM & MCTS Operator (All Blocks)
A3: Sr No | B3: Name of Division | C3: Batch -1 | D3: Participating District Names | E3: Venue | F3: No of Participants actually Participated | G3: Batch - 2 | H3: Participating District Names | I3: No of Participants actually Participated | J3: Batch - 3 | K3: Participating District Names | L3: No of Participants actually Participated | M3: Expected Participants | N3: Total Participants participated | O3: % Attendance
A4: 1 | B4: Agra | C4: 23-25 March 2015 | D4: Agra, Mathura, Firozabad, Mainpuri | E4: RFPTC, Agra | F4: 109 | M4: 111 | N4: =F4+I4+L4 -> 109 | O4: =N4/M4*100 -> 98.198198
A5: 2 | B5: Aligarh | C5: 13-15 March 2015 | D5: Aligarh, Eta, Kasganj, Hathras | E5: Pt deen Dayal Upadhyaya Combined Hospital Meeting Hall, Ramghat Road, aligarh | F5: 94 | M5: 93 | N5: =F5+I5+L5 -> 94 | O5: =N5/M5*100 -> 101.07527
A6: 3 | B6: Allahabad | C6: 16-18 March 2015 | D6: Pratapgarh, Fatehpur | E6: RFPTC, Allahabad | F6: 66 | G6: 19-21 March 15 | H6: Allahabad, Kaushambi | I6: 64 | M6: 141 | N6: =F6+I6+L6 -> 130 | O6: =N6/M6*100 -> 92.198582
A7: 4 | B7: Azamgarh | C7: 17-19 March 2015 | D7: Azamgarh | E7: AD Office Meeting Hall, Azamgarh | F7: 47 | G7: 20-22 March 2015 | H7: Ballia, Mau | I7: 60 | M7: 116 | N7: =F7+I7+L7 -> 107 | O7: =N7/M7*100 -> 92.241379
A8: 5 | B8: Bareilly | C8: 16-18 March 2015 | D8: Shahjahanpur, Badaun | E8: RFPTC, Bareilly | F8: 75 | G8: 19-21 March 2015 | H8: Bareilly, Pilibhit | I8: 65 | M8: 129 | N8: =F8+I8+L8 -> 140 | O8: =N8/M8*100 -> 108.52713
A9: 6 | B9: Basti | C9: 12-14 March 2015 | D9: Basti, Sant Kabir Nagar | E9: Hotel NR Group Basti (Near DWH) | F9: 73 | G9: 18-20 March 2014 | H9: Sidharthnagar | I9: 47 | M9: 94 | N9: =F9+I9+L9 -> 120 | O9: =N9/M9*100 -> 127.65957
A10: 7 | B10: Chitrakoot | C10: 16-18 March 2015 | D10: Banda, Chitrakoot | E10: Hotel Rajgrih Tourist, Station Road Banda | F10: 37 | G10: 19-21 March 2015 | H10: Hamirpur, Mahoba | I10: 33 | M10: 73 | N10: =F10+I10+L10 -> 70 | O10: =N10/M10*100 -> 95.890411
A11: 8 | B11: Devipatan | C11: 16-18 March 2015 | D11: Gonda, Shrawasti | E11: ANMTC, DWH Campus, Gonda | F11: 61 | G11: 19-21 March 2015 | H11: Balrampur, Behraich | I11: 46 | M11: 113 | N11: =F11+I11+L11 -> 107 | O11: =N11/M11*100 -> 94.690265
A12: 9 | B12: Faizabad | C12: 19-21 March 2015 | D12: Sultanpur, Amethi | E12: ANMTC, Near Reserve Police Line, Sultanpur | F12: 64 | G12: 23-25 March 2015 | H12: Faizabad, Ambedkarnagar | I12: 46 | J12: 26-28 march 2015 | K12: Barabanki | L12: 42 | M12: 152 | N12: =F12+I12+L12 -> 152 | O12: =N12/M12*100 -> 100
A13: 10 | B13: Gorakhpur | C13: 16-18 March 2015 | D13: Gorakhpur | E13: Meeting Hall, Naveen AD Office, Near ANMTC, BRD Medical College Campus, Gorakhpur | F13: 46 | G13: 19-21 March 2015 | H13: Maharajganj, Kushinagar | I13: 65 | J13: 23-25 March 2015 | K13: Deoria | L13: 55 | M13: 147 | N13: =F13+I13+L13 -> 166 | O13: =N13/M13*100 -> 112.92517
A14: 11 | B14: Jhansi | C14: 23-25 March 2015 | D14: Jalaun, Jhansi, Lalitpur | E14: RFPTC, Medical College, Jhansi | F14: 66 | M14: 66 | N14: =F14+I14+L14 -> 66 | O14: =N14/M14*100 -> 100
A15: 12 | B15: Kanpur Nagar | C15: 16-18 March 2015 | D15: Kanpur Nagar, Kanpur Dehat | E15: ANMTC, Ramadevi, Kanpur | F15: 46 | G15: 19-21 March 2015 | H15: Etawah, Auraiya | I15: 32 | J15: 23-25 March 2015 | K15: Kannauj, Farukhabad | L15: 37 | M15: 135 | N15: =F15+I15+L15 -> 115 | O15: =N15/M15*100 -> 85.185185
A16: 13 | B16: Lucknow | C16: 16-18 March 2015 | D16: Hardoi, Sitapur, Unnao | E16: ICCMRT, Ring Road, Indiranagar, Lucknow | F16: 115 | G16: 19-21 March 2015 | H16: Lakhimpurkheri, Lucknow, Raibareilly | I16: 98 | M16: 225 | N16: =F16+I16+L16 -> 213 | O16: =N16/M16*100 -> 94.666667
A17: 14 | B17: Meerut | C17: 17-19 March 2015 | D17: Baghpat, G.B Nagar, Ghaziabad | E17: RFPTC,Meerut (Meerut Medical College Campus) | F17: 37 | G17: 20-22 March 2015 | H17: Meerut, Hapur | I17: 44 | J17: 23-25 March 2015 | K17: Bulandshahar | L17: 39 | M17: 127 | N17: =F17+I17+L17 -> 120 | O17: =N17/M17*100 -> 94.488189
A18: 15 | B18: Mirzapur | C18: 23-25 March 2015 | D18: Mirzapur, Bhadohi, Sonebhadra | E18: District Panchayat Sabhagar, Mirzapur | F18: 52 | M18: 72 | N18: =F18+I18+L18 -> 52 | O18: =N18/M18*100 -> 72.222222
A19: 16 | B19: Moradabad | C19: 18-20 March 2015 | D19: Moradabad, Rampur, Amroha | E19: RFPTC, Moradabad | F19: 49 | G19: 23-25 March 2015 | H19: Bijnour, Sambhal, Moradabad | I19: 52 | M19: 108 | N19: =F19+I19+L19 -> 101 | O19: =N19/M19*100 -> 93.518519
A20: 17 | B20: Saharanpur | C20: 19-21 March 2015 | D20: Saharanpur, Muzaffarnagar, Shamli | E20: Meeting Hall, DWH, Saharanpur | F20: 77 | M20: 70 | N20: =F20+I20+L20 -> 77 | O20: =N20/M20*100 -> 110
A21: 18 | B21: Varanasi | C21: 16-18 March 2015 | D21: Varanasi, Jaunpur | E21: RFPTC, Shivpur, Varanasi | F21: 65 | G21: 19-21 March 2015 | H21: Ghazipur, Chandauli | I21: 58 | M21: 133 | N21: =F21+I21+L21 -> 123 | O21: =N21/M21*100 -> 92.481203
E22: Total | F22: =F4+F5+F6+F7+F8+F9+F10+F11+F12+F13+F14+F15+F16+F17+F18+F19+F20+F21 -> 1179 | I22: =I4+I5+I6+I7+I8+I9+I10+I11+I12+I13+I14+I15+I16+I17+I18+I19+I20+I21 -> 710 | L22: =L4+L5+L6+L7+L8+L9+L10+L11+L12+L13+L14+L15+L16+L17+L18+L19+L20+L21 -> 173 | M22: 2105 | N22: =N4+N5+N6+N7+N8+N9+N10+N11+N12+N13+N14+N15+N16+N17+N18+N19+N20+N21 -> 2062 | O22: =N22/M22*100 -> 97.957245

Sheet Block Level Review
A1: Block Level HMIS/MCTS Review Cum Training (Organised at District HQ)
A2: Participants: Medical Officer Incharge, ARO, HEO, LHV, ANM (ALL)
A3: SL No | B3: Name of Division | C3: Sl.No. | D3: Name of District | E3: No of Blocks | F3: No of Trainings Batches conducted | G3: Venue | H3: No of Participants expected (As Per Budget Disbursement) | I3: No of Participants actually Participated | J3: % Attendance
A4: 1 | B4: AGRA | C4: 1 | D4: Agra | E4: 15 | F4: 15 | G4: CMOOffice Meeting Hall | H4: 514 | I4: 406 | J4: =I4/H4*100 -> 78.988327
C5: 2 | D5: Firozabad | E5: 9 | F5: 9 | G5: CMOOffice Meeting Hall | H5: 292 | I5: 195 | J5: =I5/H5*100 -> 66.780822
C6: 3 | D6: Mainpuri | E6: 9 | F6: 9 | G6: CMOOffice Meeting Hall | H6: 279 | I6: 202 | J6: =I6/H6*100 -> 72.401434
C7: 4 | D7: Mathura | E7: 10 | F7: 10 | G7: CMOOffice Meeting Hall | H7: 295 | I7: 244 | J7: =I7/H7*100 -> 82.711864
A8: 2 | B8: ALIGARH | C8: 1 | D8: Alligarh | E8: 12 | F8: 8 | G8: ANMTC & DH Meeting Hall | H8: 457 | I8: 311 | J8: =I8/H8*100 -> 68.052516
C9: 2 | D9: Etah | E9: 8 | F9: 6 | G9: CMOOffice Meeting Hall | H9: 253 | I9: 208 | J9: =I9/H9*100 -> 82.213439
C10: 3 | D10: Hathras | E10: 7 | F10: 4 | G10: CMOOffice Meeting Hall | H10: 257 | I10: 166 | J10: =I10/H10*100 -> 64.59144
C11: 4 | D11: Kasganj | E11: 7 | F11: 4 | G11: CMOOffice Meeting Hall | H11: 226 | I11: 143 | J11: =I11/H11*100 -> 63.274336
A12: 3 | B12: ALLAHABAD | C12: 1 | D12: Allahabad | E12: 20 | F12: 19 | G12: CMO Office Meeting Hall & Block CHC | H12: 730 | I12: 607 | J12: =I12/H12*100 -> 83.150685
C13: 2 | D13: Fatehpur | E13: 13 | F13: 13 | G13: Block CHC | H13: 426 | I13: 284 | J13: =I13/H13*100 -> 66.666667
C14: 3 | D14: Kaushambhi | E14: 8 | F14: 4 | G14: Meeting Hall DCH, | H14: 238 | I14: 188 | J14: =I14/H14*100 -> 78.991597
C15: 4 | D15: Pratapgarh | E15: 17 | F15: 17 | G15: Block CHC | H15: 496 | I15: 422 | J15: =I15/H15*100 -> 85.080645
A16: 4 | B16: AZAMGARH | C16: 1 | D16: Azamgarh | E16: 22 | F16: 10 | G16: ANMTC | H16: 669 | I16: 444 | J16: =I16/H16*100 -> 66.367713
C17: 2 | D17: Ballia | E17: 17 | F17: 9 | G17: ANMTC | H17: 502 | I17: 387 | J17: =I17/H17*100 -> 77.091633
C18: 3 | D18: Mau | E18: 9 | F18: 9 | G18: CMO Meeting Hall | H18: 298 | I18: 241 | J18: =I18/H18*100 -> 80.872483
A19: 5 | B19: BAREILLY | C19: 1 | D19: Bareilly | E19: 15 | F19: 8 | G19: RFPTC | H19: 533 | I19: 371 | J19: =I19/H19*100 -> 69.606004
C20: 2 | D20: Badaun | E20: 15 | F20: 7 | G20: ANMTC | H20: 431 | I20: 300 | J20: =I20/H20*100 -> 69.605568
C21: 3 | D21: Pilibhit | E21: 7 | F21: 4 | G21: DH | H21: 255 | I21: 202 | J21: =I21/H21*100 -> 79.215686
C22: 4 | D22: Shahjahanpur | E22: 15 | F22: 7 | G22: CMO | H22: 419 | I22: 304 | J22: =I22/H22*100 -> 72.553699
A23: 6 | B23: BASTI | C23: 1 | D23: Basti | E23: 14 | F23: 7 | G23: ANMTC | H23: 385 | I23: 383 | J23: =I23/H23*100 -> 99.480519
C24: 2 | D24: Siddhartha Nagar | E24: 14 | F24: 8 | G24: Achal T C & DCH | H24: 390 | I24: 347 | J24: =I24/H24*100 -> 88.974359
C25: 3 | D25: Sant Kabir Nagar | E25: 9 | F25: 5 | G25: BDO Meeting Hall | H25: 255 | I25: 277 | J25: =I25/H25*100 -> 108.62745
A26: 7 | B26: CHITRAKOOT | C26: 1 | D26: Banda | E26: 8 | F26: 7 | G26: CMO Meeting Hall & Block CHC | H26: 349 | I26: 319 | J26: =I26/H26*100 -> 91.404011
C27: 2 | D27: Chitrakoot | E27: 5 | F27: 3 | G27: Old DWH Meeting Hall | H27: 179 | I27: 159 | J27: =I27/H27*100 -> 88.826816
C28: 3 | D28: Hamirpur | E28: 7 | F28: 7 | G28: Block CHC | H28: 271 | I28: 222 | J28: =I28/H28*100 -> 81.918819
C29: 4 | D29: Mahoba | E29: 4 | F29: 2 | G29: CMO Office Meeting Hall | H29: 186 | I29: 183 | J29: =I29/H29*100 -> 98.387097
A30: 8 | B30: DEVIPATAN | C30: 1 | D30: Gonda | E30: 16 | F30: 6 | G30: ANMTC | H30: 466 | I30: 355 | J30: =I30/H30*100 -> 76.180258
C31: 2 | D31: Balrampur | E31: 9 | F31: 3 | G31: CMO Office Meeting Hall | H31: 287 | I31: 195 | J31: =I31/H31*100 -> 67.944251
C32: 3 | D32: Bahraich | E32: 14 | F32: 7 | G32: CMO Office Meeting Hall | H32: 436 | I32: 352 | J32: =I32/H32*100 -> 80.733945
C33: 4 | D33: Shrawasti | E33: 5 | F33: 5 | G33: CMO Office Meeting Hall | H33: 167 | I33: 123 | J33: =I33/H33*100 -> 73.652695
A34: 9 | B34: FAIZABAD | C34: 1 | D34: Ambedkar Nagar | E34: 9 | F34: 9 | G34: Block CHC | H34: 351 | I34: 341 | J34: =I34/H34*100 -> 97.150997
C35: 2 | D35: Faizabad | E35: 11 | F35: 11 | G35: Block CHC | H35: 334 | I35: 293 | J35: =I35/H35*100 -> 87.724551
C36: 3 | D36: Barabanki | E36: 15 | F36: 7 | G36: CMO Office Meeting Hall | H36: 473 | I36: 354 | J36: =I36/H36*100 -> 74.841438
C37: 4 | D37: Sultanpur | E37: 13 | F37: 13 | G37: Block CHC | H37: 349 | I37: 290 | J37: =I37/H37*100 -> 83.094556
C38: 5 | D38: Amethi | E38: 13 | F38: 13 | G38: Block CHC | H38: 320 | I38: 270 | J38: =I38/H38*100 -> 84.375
A39: 10 | B39: GORAKHPUR | C39: 1 | D39: Gorakhpur | E39: 19 | F39: 9 | G39: DWH | H39: 681 | I39: 499 | J39: =I39/H39*100 -> 73.274596
C40: 2 | D40: Deoria | E40: 16 | F40: 5 | G40: ANMTC | H40: 458 | I40: 349 | J40: =I40/H40*100 -> 76.200873
C41: 3 | D41: Kushinagar | E41: 14 | F41: 5 | G41: CMO Meeting Hall | H41: 483 | I41: 393 | J41: =I41/H41*100 -> 81.36646
C42: 4 | D42: Maharajganj | E42: 12 | F42: 6 | G42: ANMTC | H42: 400 | I42: 317 | J42: =I42/H42*100 -> 79.25
A43: 11 | B43: JHANSI | C43: 1 | D43: Jalaun | E43: 9 | F43: 9 | G43: Achal T C | H43: 358 | I43: 325 | J43: =I43/H43*100 -> 90.782123
C44: 2 | D44: Jhansi | E44: 8 | F44: 8 | G44: TB Hos Meeting Hall | H44: 403 | I44: 335 | J44: =I44/H44*100 -> 83.126551
C45: 3 | D45: Lalitpur | E45: 6 | F45: 5 | G45: CMO Meeting Hall | H45: 246 | I45: 173 | J45: =I45/H45*100 -> 70.325203
A46: 12 | B46: KANPUR | C46: 1 | D46: Auraiya | E46: 7 | F46: 7 | G46: Block CHC | H46: 221 | I46: 172 | J46: =I46/H46*100 -> 77.828054
C47: 2 | D47: Etawah | E47: 8 | F47: 6 | G47: CMO Meeting Hall | H47: 233 | I47: 190 | J47: =I47/H47*100 -> 81.545064
C48: 3 | D48: Farrukhabad | E48: 7 | F48: 4 | G48: CMO Meeting Hall | H48: 248 | I48: 147 | J48: =I48/H48*100 -> 59.274194
C49: 4 | D49: Kannauj | E49: 8 | F49: 4 | G49: CMO Meeting Hall | H49: 252 | I49: 143 | J49: =I49/H49*100 -> 56.746032
C50: 5 | D50: Kanpur Dehat | E50: 10 | F50: 6 | G50: CMO Meeting Hall | H50: 330 | I50: 226 | J50: =I50/H50*100 -> 68.484848
C51: 6 | D51: Kanpur Nagar | E51: 10 | F51: 10 | G51: Block CHC | H51: 471 | I51: 322 | J51: =I51/H51*100 -> 68.36518
A52: 13 | B52: LUCKNOW | C52: 1 | D52: Hardoi | E52: 19 | F52: 19 | G52: Block CHC | H52: 584 | I52: 504 | J52: =I52/H52*100 -> 86.30137
C53: 2 | D53: Lakhimpur Kheri | E53: 15 | F53: 9 | G53: ANMTC | H53: 506 | I53: 484 | J53: =I53/H53*100 -> 95.652174
C54: 3 | D54: Lucknow | E54: 8 | F54: 9 | G54: Block CHC | H54: 408 | I54: 332 | J54: =I54/H54*100 -> 81.372549
C55: 4 | D55: Raibarely | E55: 18 | F55: 18 | G55: Block CHC | H55: 471 | I55: 464 | J55: =I55/H55*100 -> 98.5138
C56: 5 | D56: Sitapur | E56: 19 | F56: 19 | G56: Block CHC | H56: 620 | I56: 608 | J56: =I56/H56*100 -> 98.064516
C57: 6 | D57: Unnao | E57: 16 | F57: 8 | G57: Nirala Auditorium | H57: 484 | I57: 433 | J57: =I57/H57*100 -> 89.46281
A58: 14 | B58: MEERUT | C58: 1 | D58: Baghpat | E58: 6 | F58: 3 | G58: CMO Office Meeting Hall | H58: 248 | I58: 187 | J58: =I58/H58*100 -> 75.403226
C59: 2 | D59: Bulandshahar | E59: 16 | F59: 10 | G59: Achal T C | H59: 466 | I59: 324 | J59: =I59/H59*100 -> 69.527897
C60: 3 | D60: Meerut | E60: 12 | F60: 5 | G60: RHFPTC | H60: 414 | I60: 364 | J60: =I60/H60*100 -> 87.922705
C61: 4 | D61: G.B.Nagar | E61: 4 | F61: 2 | G61: Kailash Hosp Meeting Hall | H61: 160 | I61: 125 | J61: =I61/H61*100 -> 78.125
C62: 5 | D62: Ghaziabad | E62: 4 | F62: 2 | G62: DCH | H62: 350 | I62: 188 | J62: =I62/H62*100 -> 53.714286
C63: 6 | D63: Hapur | E63: 4 | F63: 2 | G63: CMO Meeting hall | H63: 206 | I63: 117 | J63: =I63/H63*100 -> 56.796117
A64: 15 | B64: MORADABAD | C64: 1 | D64: Bijnor | E64: 11 | F64: 11 | G64: CMO Meeting Hall, ANMTC, | H64: 442 | I64: 418 | J64: =I64/H64*100 -> 94.570136
C65: 2 | D65: Amroha | E65: 6 | F65: 5 | G65: CMO Meeting Hall | H65: 223 | I65: 153 | J65: =I65/H65*100 -> 68.609865
C66: 3 | D66: Moradabad | E66: 8 | F66: 6 | G66: ANMTC | H66: 480 | I66: 142 | J66: =I66/H66*100 -> 29.583333
C67: 4 | D67: Sambhal | E67: 8 | F67: 8 | G67: CHC Behjoi | H67: 275 | I67: 191 | J67: =I67/H67*100 -> 69.454545
C68: 5 | D68: Rampur | E68: 6 | F68: 6 | G68: CMO Meeting Hall | H68: 260 | I68: 173 | J68: =I68/H68*100 -> 66.538462
A69: 16 | B69: SAHARANPUR | C69: 1 | D69: Shamli | E69: 5 | F69: 2 | G69: CHC Shamli | H69: 177 | I69: 135 | J69: =I69/H69*100 -> 76.271186
C70: 2 | D70: Muzaffarnagar | E70: 9 | F70: 4 | G70: ANMTC | H70: 495 | I70: 320 | J70: =I70/H70*100 -> 64.646465
C71: 3 | D71: Saharanpur | E71: 11 | F71: 3 | G71: DWH | H71: 448 | I71: 318 | J71: =I71/H71*100 -> 70.982143
A72: 17 | B72: VARANASI | C72: 1 | D72: Chandauli | E72: 9 | F72: 7 | G72: DCH, CMO meeting Hall | H72: 320 | I72: 256 | J72: =I72/H72*100 -> 80
C73: 2 | D73: Ghazipur | E73: 16 | F73: 8 | G73: DPMU NHM | H73: 547 | I73: 424 | J73: =I73/H73*100 -> 77.513711
C74: 3 | D74: Jaunpur | E74: 21 | F74: 20 | G74: Block CHC | H74: 675 | I74: 523 | J74: =I74/H74*100 -> 77.481481
C75: 4 | D75: Varanasi | E75: 8 | F75: 4 | G75: RFPTC | H75: 405 | I75: 284 | J75: =I75/H75*100 -> 70.123457
A76: 18 | B76: VINDHYANCHAL | C76: 1 | D76: Bhadohi | E76: 6 | F76: 5 | G76: CMO Meeting Hall | H76: 208 | I76: 165 | J76: =I76/H76*100 -> 79.326923
C77: 2 | D77: Mirzapur | E77: 12 | F77: 8 | G77: DH Meeting Hall | H77: 359 | I77: 289 | J77: =I77/H77*100 -> 80.501393
C78: 3 | D78: Sonbhadra | E78: 8 | F78: 8 | G78: Achal T Centre | H78: 239 | I78: 181 | J78: =I78/H78*100 -> 75.732218
E79: =SUM(E4:E78) -> 820 | F79: =SUM(F4:F78) -> 580 | G79: Total | H79: =SUM(H4:H78) -> 28022 | I79: =SUM(I4:I78) -> 21781 | J79: =I79/H79*100 -> 77.728214
